BEGIN:VCALENDAR
VERSION:2.0
PRODID:-//Pride At Work Canada - ECPv6.15.20//NONSGML v1.0//EN
CALSCALE:GREGORIAN
METHOD:PUBLISH
X-WR-CALNAME:Pride At Work Canada
X-ORIGINAL-URL:https://staging.prideatwork.ca
X-WR-CALDESC:Events for Pride At Work Canada
REFRESH-INTERVAL;VALUE=DURATION:PT1H
X-Robots-Tag:noindex
X-PUBLISHED-TTL:PT1H
BEGIN:VTIMEZONE
TZID:America/St_Johns
BEGIN:DAYLIGHT
TZOFFSETFROM:-0330
TZOFFSETTO:-0230
TZNAME:NDT
DTSTART:20220313T053000
END:DAYLIGHT
BEGIN:STANDARD
TZOFFSETFROM:-0230
TZOFFSETTO:-0330
TZNAME:NST
DTSTART:20221106T043000
END:STANDARD
BEGIN:DAYLIGHT
TZOFFSETFROM:-0330
TZOFFSETTO:-0230
TZNAME:NDT
DTSTART:20230312T053000
END:DAYLIGHT
BEGIN:STANDARD
TZOFFSETFROM:-0230
TZOFFSETTO:-0330
TZNAME:NST
DTSTART:20231105T043000
END:STANDARD
BEGIN:DAYLIGHT
TZOFFSETFROM:-0330
TZOFFSETTO:-0230
TZNAME:NDT
DTSTART:20240310T053000
END:DAYLIGHT
BEGIN:STANDARD
TZOFFSETFROM:-0230
TZOFFSETTO:-0330
TZNAME:NST
DTSTART:20241103T043000
END:STANDARD
END:VTIMEZONE
BEGIN:VEVENT
DTSTART;TZID=America/St_Johns:20230720T170000
DTEND;TZID=America/St_Johns:20230720T200000
DTSTAMP:20260422T075137
CREATED:20230602T162115Z
LAST-MODIFIED:20230714T150944Z
UID:10000680-1689872400-1689883200@staging.prideatwork.ca
SUMMARY:St. John's ProPride
DESCRIPTION:Thursday\, July 20\, 2023\, from 5 PM to 8 PM NDT (3:30 to 6:30 PM EDT) – This hybrid event is free and open to all who wish to register. \n[vc_row][vc_column width=”2/3″] \n[/vc_column][vc_column width=”1/3″] \nSponsor\n[/vc_column][/vc_row] \nPanel Discussion & Networking: 2SLGBTQIA+ Leadership in Action\nJoin Pride at Work Canada in a night of networking and connection for those who are passionate about advancing 2SLGBTQIA+ rights and creating a more inclusive work environment. The evening’s festivities will provide an opportunity for attendees to meet like-minded individuals\, share their experiences\, and learn from one another. Bringing together professionals\, community members\, and job seekers from a diversity of industries and backgrounds. \nThe event will include a panel discussion and lively networking reception. The panel will focus on the importance of leadership in 2SLGBTQIA+ communities influenced by the groundbreaking research Lead with Pride: Best Practices for Advancing 2SLGBTQIA+ Leadership. Come celebrate and make a new connection. \nLearning Objectives: \n\nTools to support 2SLGBTQIA+ leadership\nHow to promote and retain 2SLGBTQIA+ talent\nStrategies for 2SLGBTQIA+ leaders\n\nAudience: \n\n2SLGBTQIA+ Professionals & job seekers\n2SLGBTQIA+ community members\nHR and Diversity\, Equity\, and Inclusion professionals\n\nLocation:\nSt. John’s Convention Centre – 50 New Gower Street\, St. John’s NL A1A 2A1 \nSchedule: \n\n5 pm – Event & Registration Open\n5:30 pm – Opening Remarks & Panel Discussion\n7 pm – Performance: Irma Gerd\n7:10 pm – Networking reception\n8:00 pm – End of event\n\nSPEAKERS\n[vc_row][vc_column width=”1/3″]\n \nChris Forward (he/him)\nGeneral Manager\nHarvey’s Oil & Harvey’s Home Heating\n[Panelist]\n[/vc_column][vc_column width=”1/3″]\n \nGemma Hickey (they/them)\nAuthor\, activist\, and Executive Director\nArtforce\n[Panelist]\n[/vc_column][vc_column width=”1/3″]\n \nNikki Baldwin (they/she)\nExecutive Director\nPlanned Parenthood Newfoundland and Labrador\n[Panelist]\n[/vc_column][/vc_row] \n[vc_row][vc_column width=”1/3″]\n \nIrma Gerd (they/them)\nCanada’s Drag Race S3 & the BEAST from the East Coast of Canada\n[Remarks & Performance]\n[/vc_column][vc_column width=”1/3″]\n \nJade Pichette (they/them)\nDirector of Programs\nPride at Work Canada\n[Moderator]\n[/vc_column][vc_column width=”1/3″]\n \nMathieu Young (he/him\, they/them)\nVirtual Programs Coordinator\nPride at Work Canada\n[Emcee]\n[/vc_column][/vc_row] \nAccessibility: \n\nSpoken language: English\nLive interpretation: Available upon request\nClosed captioning: English\nFormat: hybrid\, in-person event with livestream of the panel discussion\nPlease register below additional accessibility requests. Any questions may be sent to info@prideatwork.ca\n\nAbout ProPride\nProPride is an innovative event series hosted by Pride at Work Canada\, bringing together inclusive employers\, 2SLGBTQIA+ thought leaders\, and community organizations for engaging conversations\, networking opportunities\, panel and roundtable discussions. With a commitment to creating inclusive spaces beyond Pride celebrations\, ProPride provides a dynamic environment for employees\, job seekers\, and community members\, as well as employers committed to 2SLGBTQIA+ inclusion. Join us for access to the most relevant topics and current research\, as we celebrate progress in 2SLGBTQIA+ leadership and inclusion and create a better\, more inclusive future for all. \nFor in-person access\, please register here (limited capacity).\nFor on-line access\, please register below:\nRegistration for this event has closed.\nThis hybrid event is free and open to all who wish to register. If you would like to register after the deadline\, please send an email to info@prideatwork.ca.
URL:https://staging.prideatwork.ca/event/propride-20230720/
LOCATION:St. John’s Convention Centre\, 50 New Gower Street\, St. John’s\, NL\, A1A 2A1\, Canada
CATEGORIES:Networking,Panel Discussion,ProPride
END:VEVENT
END:VCALENDAR