BEGIN:VCALENDAR
VERSION:2.0
PRODID:-//Pride At Work Canada - ECPv6.15.20//NONSGML v1.0//EN
CALSCALE:GREGORIAN
METHOD:PUBLISH
X-WR-CALNAME:Pride At Work Canada
X-ORIGINAL-URL:https://staging.prideatwork.ca
X-WR-CALDESC:Events for Pride At Work Canada
REFRESH-INTERVAL;VALUE=DURATION:PT1H
X-Robots-Tag:noindex
X-PUBLISHED-TTL:PT1H
BEGIN:VTIMEZONE
TZID:America/Toronto
BEGIN:DAYLIGHT
TZOFFSETFROM:-0500
TZOFFSETTO:-0400
TZNAME:EDT
DTSTART:20220313T070000
END:DAYLIGHT
BEGIN:STANDARD
TZOFFSETFROM:-0400
TZOFFSETTO:-0500
TZNAME:EST
DTSTART:20221106T060000
END:STANDARD
BEGIN:DAYLIGHT
TZOFFSETFROM:-0500
TZOFFSETTO:-0400
TZNAME:EDT
DTSTART:20230312T070000
END:DAYLIGHT
BEGIN:STANDARD
TZOFFSETFROM:-0400
TZOFFSETTO:-0500
TZNAME:EST
DTSTART:20231105T060000
END:STANDARD
BEGIN:DAYLIGHT
TZOFFSETFROM:-0500
TZOFFSETTO:-0400
TZNAME:EDT
DTSTART:20240310T070000
END:DAYLIGHT
BEGIN:STANDARD
TZOFFSETFROM:-0400
TZOFFSETTO:-0500
TZNAME:EST
DTSTART:20241103T060000
END:STANDARD
BEGIN:DAYLIGHT
TZOFFSETFROM:-0500
TZOFFSETTO:-0400
TZNAME:EDT
DTSTART:20250309T070000
END:DAYLIGHT
BEGIN:STANDARD
TZOFFSETFROM:-0400
TZOFFSETTO:-0500
TZNAME:EST
DTSTART:20251102T060000
END:STANDARD
END:VTIMEZONE
BEGIN:VEVENT
DTSTART;TZID=America/Toronto:20240807T173000
DTEND;TZID=America/Toronto:20240807T203000
DTSTAMP:20260421T124707
CREATED:20240416T192156Z
LAST-MODIFIED:20240731T162614Z
UID:10000721-1723051800-1723062600@staging.prideatwork.ca
SUMMARY:Montreal ProPride
DESCRIPTION:Wednesday\, August 7\, 2024\, from 5:30 PM to 8:30 PM EDT – This in-person event is free and open to all who wish to register. \nPresented by Desjardins.\nIn collaboration with \, Amazon Web Services (AWS)\, Sid Lee\, SAQ\, Braindate\, and Fierté Montréal \nOn August 7\, join us for an exceptional evening organized by Pride at Work Canada\, focused on facilitating networking and connection among people who are committed to creating inclusive workplaces. During this celebratory event\, participants will have the opportunity to meet people who are actively working to create inclusive environments\, to share experiences and inspire one another. \nThis event brings together professionals and job seekers from a variety of sectors and backgrounds with a common goal: to create safe and accessible spaces for 2SLGBTQIA+ communities.\n[vc_row] \n[vc_column width=”2/3″] \nSCHEDULE\n\n4:30 PM – 5:30 PM EDT – Networking activity presented by Braindate (by registration – 100 spots available\, granting access to the cocktail)\n5:30 PM – 8:30 PM EDT – Montreal ProPride Cocktail\n\nThanks to Braindate’s targeted networking activation\, you’ll get to meet community influencers\, share knowledge and strengthen ties within our community. Don’t miss this opportunity to broaden your network and engage in meaningful and dynamic conversations. \nWe are continually working to enhance our networking experiences\, based on your valuable feedback\, making it more authentic and meaningful. At large events\, it can be challenging for attendees to make new business connections or engage with people outside their immediate network. \nThis year\, we are excited to partner with Braindate\, a Montreal-based technology company\, to offer an optimized networking experience during the first hour of the ProFierté cocktail reception (4:30 to 5:30 PM). \nSo\, how do you spark those meaningful conversations? It all starts with a Braindate. \nBraindates are knowledge-sharing conversations that you schedule with others to have in small groups on-site in the Braindate Lounge. They are perfect for brainstorming\, solving challenges\, and sharing expertise or experiences while meeting new\, brilliant people. \nRegister for the event\, book a Braindate with one of our experts from our Community Partners and Champions\, and learn something new. \nYou will also gain direct access to the ProPride Reception\, which usually sells out quickly. Don’t miss out! \n[/vc_column] \n[vc_column width=”1/3″] \nSPONSORS\n  \nGOLD SPONSOR\n  \n \n \nSILVER SPONSOR\n\n \nBRONZE SPONSOR\n  \n \n[/vc_column] \n[/vc_row] \nHOST SPONSOR & LOCATION\n[vc_row equal_height=”yes” content_placement=”middle”][vc_column width=”1/3″] \n\n[/vc_column][vc_column width=”2/3″] \nSid Lee\n12102-1 Place Ville Marie\, Montreal\, Quebec\, H3B 3Y1\, Canada \n[/vc_column][/vc_row] \n[vc_row] \n[vc_column width=”1/6″] \n[/vc_column] \n[vc_column width=”1/3″] \n  \nNETWORKING SUPPORT\n \n[/vc_column] \n[vc_column width=”1/3″] \n  \nCOMMUNITY PARTNER\n \n[/vc_column] \n[vc_column width=”1/6″] \n[/vc_column] \n[/vc_row] \nRegistration on Eventbrite.\nAbout ProPride:\nProPride is an innovative event series hosted by Pride at Work Canada\, bringing together inclusive employers\, 2SLGBTQIA+ thought leaders\, and community organizations for engaging conversations\, networking opportunities\, panel and roundtable discussions. With a commitment to creating inclusive spaces beyond Pride celebrations\, ProPride provides a dynamic environment for employees\, job seekers\, and community members\, as well as employers committed to 2SLGBTQIA+ inclusion. Join us for access to the most relevant topics and current research\, as we celebrate progress in 2SLGBTQIA+ leadership and inclusion and create a better\, more inclusive future for all. \nIf you would like to register after the deadline\, please send an email to events@prideatwork.ca.
URL:https://staging.prideatwork.ca/event/montreal-propride-2024/
LOCATION:Sid Lee Montreal\, 12102-1 Place Ville Marie\, Montreal\, QC\, H3B 3Y1
CATEGORIES:Free event,ProPride
END:VEVENT
BEGIN:VEVENT
DTSTART;TZID=America/Toronto:20230802T173000
DTEND;TZID=America/Toronto:20230802T200000
DTSTAMP:20260421T124707
CREATED:20230712T202732Z
LAST-MODIFIED:20230728T152240Z
UID:10000686-1690997400-1691006400@staging.prideatwork.ca
SUMMARY:Montreal ProPride
DESCRIPTION:Wednesday\, August 2\, 2023\, from 5:30 PM to 8 PM EDT – This in-person event is free and open to all who wish to register. \n \n[vc_row][vc_column width=”1/3″] \n \nLead Sponsor\n\n[/vc_column][vc_column width=”1/3″] \n \nHost Sponsor\n\n[/vc_column][vc_column width=”1/3″] \n \nSponsor\n\n[/vc_column][/vc_row] \nJoin Pride at Work Canada in a night of networking and connection for those who are passionate about advancing 2SLGBTQIA+ rights and creating a more inclusive work environment. The evening’s festivities will provide an opportunity for attendees to meet like-minded individuals\, share their experiences\, and learn from one another. Bringing together professionals\, community members\, and job seekers from a diversity of industries and backgrounds. During the networking event\, attendees will be able to connect and engage in conversations about diversity\, equity\, and inclusion in the workplace. \nLocation: \nSid Lee Montreal – 12102-1 Place Ville Marie\, Montreal\, Quebec \nSchedule:  \n\n5:30 pm – Doors open\n6:30 pm – Remarks\n8:00 pm – End of event\n\nAudience: \n\n2SLGBTQIA+ professionals\n2SLGBTQIA+ community members\n2SLGBTQIA+ job seekers\nDiversity\, Equity and Inclusion professionals\n\nREMARKS\n[vc_row][vc_column width=”1/4″]\n \nSalwa Salek (she/her)\nChief Diversity\, Equity and Inclusion Officer\nDesjardins\n[/vc_column][vc_column width=”1/4″]\n \nKatia Aubin (she/her)\nVice President\, Global Communication and Brand\nSid Lee\n[/vc_column][vc_column width=”1/4″]\n \nMathieu Johnson (he/him)\nAmbassador for the LGBTQ+ community & Acting Vice-President\, Strategy and Development\nHydro-Québec\n[/vc_column][vc_column width=”1/4″]\n \nFlorence Gagnon (she/her)\nCreative Development Executive\nPride at Work Canada\n[/vc_column][/vc_row] \nSPECIAL GUESTS\nCome and meet 15 personalities from our communities including:\n[vc_row][vc_column width=”1/2″]\n \nMona Belleau (she/her)\nInuk Activist\n[/vc_column][vc_column width=”1/2″]\n \nBarbada\nDrag Queen\n[/vc_column][/vc_row] \nAccessibility: \n\nSpoken language: French\nFormat: in-person event\nPlease register below additional accessibility requests. Any questions may be sent to info@prideatwork.ca\n\nAbout ProPride\nProPride is an innovative event series hosted by Pride at Work Canada\, bringing together inclusive employers\, 2SLGBTQIA+ thought leaders\, and community organizations for engaging conversations\, networking opportunities\, panel and roundtable discussions. With a commitment to creating inclusive spaces beyond Pride celebrations\, ProPride provides a dynamic environment for employees\, job seekers\, and community members\, as well as employers committed to 2SLGBTQIA+ inclusion. Join us for access to the most relevant topics and current research\, as we celebrate progress in 2SLGBTQIA+ leadership and inclusion and create a better\, more inclusive future for all. \nFor in-person access\, please register here (limited capacity).\nThis in-person event is free and open to all who wish to register. If you would like to register after the deadline\, please send an email to info@prideatwork.ca.
URL:https://staging.prideatwork.ca/event/propride-20230802/
LOCATION:Sid Lee Montreal\, 12102-1 Place Ville Marie\, Montreal\, QC\, H3B 3Y1
CATEGORIES:Networking,ProPride
END:VEVENT
END:VCALENDAR