BEGIN:VCALENDAR
VERSION:2.0
PRODID:-//Pride At Work Canada - ECPv6.15.20//NONSGML v1.0//EN
CALSCALE:GREGORIAN
METHOD:PUBLISH
X-WR-CALNAME:Pride At Work Canada
X-ORIGINAL-URL:https://staging.prideatwork.ca
X-WR-CALDESC:Events for Pride At Work Canada
REFRESH-INTERVAL;VALUE=DURATION:PT1H
X-Robots-Tag:noindex
X-PUBLISHED-TTL:PT1H
BEGIN:VTIMEZONE
TZID:America/Toronto
BEGIN:DAYLIGHT
TZOFFSETFROM:-0500
TZOFFSETTO:-0400
TZNAME:EDT
DTSTART:20210314T070000
END:DAYLIGHT
BEGIN:STANDARD
TZOFFSETFROM:-0400
TZOFFSETTO:-0500
TZNAME:EST
DTSTART:20211107T060000
END:STANDARD
BEGIN:DAYLIGHT
TZOFFSETFROM:-0500
TZOFFSETTO:-0400
TZNAME:EDT
DTSTART:20220313T070000
END:DAYLIGHT
BEGIN:STANDARD
TZOFFSETFROM:-0400
TZOFFSETTO:-0500
TZNAME:EST
DTSTART:20221106T060000
END:STANDARD
BEGIN:DAYLIGHT
TZOFFSETFROM:-0500
TZOFFSETTO:-0400
TZNAME:EDT
DTSTART:20230312T070000
END:DAYLIGHT
BEGIN:STANDARD
TZOFFSETFROM:-0400
TZOFFSETTO:-0500
TZNAME:EST
DTSTART:20231105T060000
END:STANDARD
END:VTIMEZONE
BEGIN:VEVENT
DTSTART;TZID=America/Toronto:20220803T170000
DTEND;TZID=America/Toronto:20220803T200000
DTSTAMP:20260423T164551
CREATED:20220620T190155Z
LAST-MODIFIED:20220726T203500Z
UID:10000610-1659546000-1659556800@staging.prideatwork.ca
SUMMARY:Montreal ProPride
DESCRIPTION:Wednesday\, August 3\, 2022\, from 5 PM to 8 PM EDT – This in-person networking event is free and open to all who wish to register.\n[vc_row][vc_column width=”2/3″][/vc_column][vc_column width=”1/3″]Pride at Work Canada is proud to have the support of Desjardins for this event. \n\n[/vc_column][/vc_row] \nThe renowned Montreal ProPride cocktail party presented by Desjardins is back and in person this year – join us on August 3 at the SAT (Society for Arts and Technology) for a cocktail hour with company & organization partners\, as well as members of our 2SLGBTQIA+ communities. \nMontreal ProPride 2022 will also feature a hybrid component\, including a ProPride Braindate ProFierté session\, on August 3\, that will allow people to network during the day\, accessible from anywhere in Canada. \nDetails\nWhen: Wednesday\, August 3\, 2022\, from 5 PM to 8 PM EDT\nWhere: SAT – Society for Arts and Technology – 1201 boulevard Saint-Laurent\, Montreal\, QC\nReception: from 5 PM to 8 PM EDT – Includes 2 drinks \nAudience: \n\n2SLGBTQIA+ professionals and job seekers\nEmployee Resource Group members\nDiversity\, Equity\, and Inclusion professionals\n\nAccessibility: \n\nSAT – Society for Arts and Technology – Accessibility (In Person)\nMasking and respecting social distancing required (In Person)\nMore accessibility details to come. However if you have any accessibility requests please email info@prideatwork.ca with requests by July 15\, 2022\n\nThere won’t be a livestream for this networking event; however\, you can register for ProPride Braindate ProFierté\, the online event related to Montreal ProPride. \nFor in-person access\, please register here (limited capacity). \nDespite being sold out\, there will be a draw (two tickets) for Montrealers who participate in our ProPride Braindate ProFierté.\nThis in-person networking event is free and open to all who wish to register. If you have any question\, please send an email to info@prideatwork.ca
URL:https://staging.prideatwork.ca/event/propride-20220803/
LOCATION:SAT – Société des arts technologiques\, 1201 boulevard Saint-Laurent\, Montréal\, QC\, H2X 2S6\, Canada
CATEGORIES:ProPride
END:VEVENT
END:VCALENDAR