BEGIN:VCALENDAR
VERSION:2.0
PRODID:-//Pride At Work Canada - ECPv6.15.20//NONSGML v1.0//EN
CALSCALE:GREGORIAN
METHOD:PUBLISH
X-ORIGINAL-URL:https://staging.prideatwork.ca
X-WR-CALDESC:Events for Pride At Work Canada
REFRESH-INTERVAL;VALUE=DURATION:PT1H
X-Robots-Tag:noindex
X-PUBLISHED-TTL:PT1H
BEGIN:VTIMEZONE
TZID:America/Toronto
BEGIN:DAYLIGHT
TZOFFSETFROM:-0500
TZOFFSETTO:-0400
TZNAME:EDT
DTSTART:20210314T070000
END:DAYLIGHT
BEGIN:STANDARD
TZOFFSETFROM:-0400
TZOFFSETTO:-0500
TZNAME:EST
DTSTART:20211107T060000
END:STANDARD
BEGIN:DAYLIGHT
TZOFFSETFROM:-0500
TZOFFSETTO:-0400
TZNAME:EDT
DTSTART:20220313T070000
END:DAYLIGHT
BEGIN:STANDARD
TZOFFSETFROM:-0400
TZOFFSETTO:-0500
TZNAME:EST
DTSTART:20221106T060000
END:STANDARD
BEGIN:DAYLIGHT
TZOFFSETFROM:-0500
TZOFFSETTO:-0400
TZNAME:EDT
DTSTART:20230312T070000
END:DAYLIGHT
BEGIN:STANDARD
TZOFFSETFROM:-0400
TZOFFSETTO:-0500
TZNAME:EST
DTSTART:20231105T060000
END:STANDARD
END:VTIMEZONE
BEGIN:VEVENT
DTSTART;TZID=America/Toronto:20220623T173000
DTEND;TZID=America/Toronto:20220623T203000
DTSTAMP:20260423T203325
CREATED:20220512T204429Z
LAST-MODIFIED:20220621T181742Z
UID:10000460-1656005400-1656016200@staging.prideatwork.ca
SUMMARY:Toronto ProPride
DESCRIPTION:Thursday\, June 23\, 2022\, from 5:30 PM to 8:30 PM EDT – This hybrid event is free and open to all who wish to register.\n[vc_row][vc_column width=”2/3″][/vc_column][vc_column width=”1/3″]Pride at Work Canada is proud to have the support of Rainbow Faith & Freedom for Toronto ProPride. \n[/vc_column][/vc_row] \nPanel Discussion & Reception: Religious and 2SLGBTQIA+ inclusion at work\nPride at Work Canada’s ProPride is returning to Toronto\, to bring community and business leaders together. This panel discussion\, organized by Pride at Work Canada with the support of Rainbow Faith & Freedom\, will delve into the intersections of gender identity\, gender expression\, sexual orientation\, creed\, and religion at work. Religious and 2SLGBTQIA+ communities are often portrayed as separate communities\, while both experience being told that they are not appropriate in the workplace. It is also common that 2SLGBTQIA+ people of faith are marginalized by both their religious communities and the 2SLGBTQIA+ communities. Yet our religious beliefs\, creed\, sexual orientation\, gender identity\, and gender expression are all core parts of who people are and\, to create true workplace belonging\, all have to be respected. Join us for this important discussion that looks at allyship within and between equity-deserving groups. The panel will be followed by a lively networking reception bringing together 2SLGBTQIA+ employees\, job seekers\, and employers committed to belonging at work. \nDetails\nWhen: Thursday\, June 23\, 2022\, from 5:30 PM to 8:30 PM EDT\nWhere: Ricarda’s – 134 Peter St\, Toronto\, ON M5V 2H2\nRegistration: 5:30 PM – 6:00 PM\nPanel: 6:00 PM – 7:00 PM\nReception: 7:00 PM – 8:30 PM \nLearning Objectives: \n\nExperiences of 2SLGBTQIA+ employees and job seekers\nBest practices for 2SLGBTQIA+ inclusion\nThe intersection of creed\, religion\, gender expression\, gender identity\, and sexual orientation at work.\n\nAudience: \n\n2SLGBTQIA+ professionals and job seekers\nEmployee Resource Group members\nDiversity\, Equity\, and Inclusion professionals\n\nSPEAKERS\n[vc_row][vc_column width=”1/3″][vc_column_text] \nKIM WHEATLEY (she/her) \nAnishinaabe Cultural Consultant \n[Remarks] \n[/vc_column_text][/vc_column][vc_column width=”1/3″][vc_column_text] \nRev. Dr. BRENT HAWKES (he/him) \nExecutive Director \nRainbow Faith & Freedom \n[Remarks] \n[/vc_column_text][/vc_column][vc_column width=”1/3″][vc_column_text] \nCOLIN DRUHAN (he/him) \nExecutive Director \nPride at Work Canada \n[Remarks] \n[/vc_column_text][/vc_column][/vc_row] \n[vc_row][vc_column width=”1/3″][vc_column_text] \nBRITTANY HUDSON (they/them) \nProgram Manager\, Youth Education & Employment \nFriends of Ruby \n[Panelist] \n[/vc_column_text][/vc_column][vc_column width=”1/3″][vc_column_text] \nHAZIM ISMAIL (dia\, they/them) \nCoordinator \nOCASI \n[Panelist] \n[/vc_column_text][/vc_column][vc_column width=”1/3″][vc_column_text] \nMUHAMMAD AHSAN (he/him) \nManager\, Equity\, Diversity and Inclusion \nCity of Kingston \n[Panelist] \n[/vc_column_text][/vc_column][/vc_row] \n[vc_row][vc_column width=”1/2″][vc_column_text] \nJADE PICHETTE (they/them) \nDirector of Programs \nPride at Work Canada \n[Moderator] \n[/vc_column_text][/vc_column][vc_column width=”1/2″][vc_column_text] \nSANDEEP NAIR (he/him\, they/them) \nManager of Business Development \nPride at Work Canada \n[Emcee] \n[/vc_column_text][/vc_column][/vc_row] \nAccessibility: \n\nReview the event space or contact – Ricarda’s Accessibility (In Person)\nMasking and respecting social distancing required (In Person)\nLive captioning provided by National Captioning Canada (Virtual)\nMore accessibility details to come. However if you have any accessibility requests please email info@prideatwork.ca with requests by June 9th\, 2022.\n\nThere will be a livestream\, when registering please indicate if you intend to come in person as there will be a limited number of in-person availability. \nFor in-person access\, please register here (limited capacity).\nFor on-line access\, please register below:\nRegistration for this event has closed.\nThis hybrid event is free and open to all who wish to register. If you would like to register after the deadline for livestream\, please send an email to info@prideatwork.ca
URL:https://staging.prideatwork.ca/event/propride-20220623/
LOCATION:Ricarda’s\, 134 Peter St\, Toronto\, ON\, M5V 2H2\, Canada
CATEGORIES:ProPride
END:VEVENT
END:VCALENDAR