BEGIN:VCALENDAR
VERSION:2.0
PRODID:-//Pride At Work Canada - ECPv6.15.20//NONSGML v1.0//EN
CALSCALE:GREGORIAN
METHOD:PUBLISH
X-WR-CALNAME:Pride At Work Canada
X-ORIGINAL-URL:https://staging.prideatwork.ca
X-WR-CALDESC:Events for Pride At Work Canada
REFRESH-INTERVAL;VALUE=DURATION:PT1H
X-Robots-Tag:noindex
X-PUBLISHED-TTL:PT1H
BEGIN:VTIMEZONE
TZID:America/Vancouver
BEGIN:DAYLIGHT
TZOFFSETFROM:-0800
TZOFFSETTO:-0700
TZNAME:PDT
DTSTART:20210314T100000
END:DAYLIGHT
BEGIN:STANDARD
TZOFFSETFROM:-0700
TZOFFSETTO:-0800
TZNAME:PST
DTSTART:20211107T090000
END:STANDARD
BEGIN:DAYLIGHT
TZOFFSETFROM:-0800
TZOFFSETTO:-0700
TZNAME:PDT
DTSTART:20220313T100000
END:DAYLIGHT
BEGIN:STANDARD
TZOFFSETFROM:-0700
TZOFFSETTO:-0800
TZNAME:PST
DTSTART:20221106T090000
END:STANDARD
BEGIN:DAYLIGHT
TZOFFSETFROM:-0800
TZOFFSETTO:-0700
TZNAME:PDT
DTSTART:20230312T100000
END:DAYLIGHT
BEGIN:STANDARD
TZOFFSETFROM:-0700
TZOFFSETTO:-0800
TZNAME:PST
DTSTART:20231105T090000
END:STANDARD
END:VTIMEZONE
BEGIN:VEVENT
DTSTART;TZID=America/Vancouver:20220728T170000
DTEND;TZID=America/Vancouver:20220728T203000
DTSTAMP:20260423T101720
CREATED:20220602T210706Z
LAST-MODIFIED:20220720T152845Z
UID:10000470-1659027600-1659040200@staging.prideatwork.ca
SUMMARY:Vancouver ProPride
DESCRIPTION:Thursday\, July 28\, 2022\, from 5 PM to 8:30 PM PDT (8 PM to 11:30 PM EDT) – This hybrid event is free and open to all who wish to register.\n[vc_row][vc_column width=”2/3″][/vc_column][vc_column width=”1/3″]Pride at Work Canada is proud to have the support of Norton Rose Fulbright for Vancouver ProPride. \n[/vc_column][/vc_row] \nPanel Discussion and Reception: Resurgence\nJoin Pride at Work Canada for an evening of networking and connecting with diversity\, equity\, and inclusion leaders\, 2SLGBTQIA+ professionals and job seekers in Vancouver at Norton Rose Fulbright. The evening’s festivities will include a panel discussion on returning to in person Pride events and a lively networking reception. Let us return together to build more inclusive futures for gender expression\, gender identity\, and sexual orientation inclusion. \nDetails\nWhen: Thursday\, July 28\, 2022\, from 5 PM to 8:30 PM PDT (8 PM to 11:30 PM EDT)\nWhere: Norton Rose Fulbright – Sky Garden – 1800 – 510 West Georgia St\, Vancouver\, BC\nRegistration: 5 PM – 5:30 PM\nPresentation & Reception: 5:30 PM – 8:30 PM \nLearning Objectives: \n\nExperiences of 2SLGBTQIA+ employees and job seekers\nBest practices for 2SLGBTQIA+ inclusion\nQueer futures of employment\n\nAudience: \n\n2SLGBTQIA+ professionals and job seekers\nEmployee Resource Group members\nDiversity\, Equity\, and Inclusion professionals\n\nSPEAKERS\n[vc_row][vc_column width=”1/3″][vc_column_text] \nSAYLESH WESLEY (she/her) \nEducator & Knowledge Keeper \n[Remarks & Panelist] \n[/vc_column_text][/vc_column][vc_column width=”1/3″][vc_column_text] \nBASIA PAKULA\, PhD (she/her) \nSenior Research Associate \nSocial Research and Demonstration Corporation (SRDC) \n[Panelist] \n[/vc_column_text][/vc_column][vc_column width=”1/3″][vc_column_text] \nTARA ROBERTSON (she/her) \nPrincipal \nTara Robertson Consulting Inc. \n[Panelist] \n[/vc_column_text][/vc_column][/vc_row] \n[vc_row][vc_column width=”1/2″][vc_column_text] \nSANDEEP NAIR (he/him\, they/them) \nManager of Business Development \nPride at Work Canada \n[Moderator] \n[/vc_column_text][/vc_column][vc_column width=”1/2″][vc_column_text] \nCLAIRE YICK (she/her) \nSenior Policy Analyst \nBC Public Service \n[Emcee] \n[/vc_column_text][/vc_column][/vc_row] \nCOVID-19: \n\nAll existing provincial and local regulations will be followed\, including mandates that may require individuals to wear a mask (In Person)\n\nAccessibility: \n\nNorton Rose Fulbright – Sky Garden – Accessibility (In Person)\nLive captioning provided by National Captioning Canada (Virtual)\nMore accessibility details to come. However if you have any accessibility requests please email info@prideatwork.ca with requests by July 14\, 2022.\n\nThe event will include a livestream option. When registering please indicate if you intend to come in person as there will be a limited number of in-person availability. \nFor in-person access\, please register here (limited capacity).\nFor on-line access\, please register below:\nRegistration for this event has closed.\nThis hybrid event is free and open to all who wish to register. If you would like to register after the deadline for livestream\, please send an email to info@prideatwork.ca
URL:https://staging.prideatwork.ca/event/propride-20220728/
LOCATION:Norton Rose Fulbright – Sky Garden\, 1800 - 510 West Georgia St\, Vancouver\, BC\, V6B 0M3\, Canada
CATEGORIES:ProPride
END:VEVENT
END:VCALENDAR