BEGIN:VCALENDAR
VERSION:2.0
PRODID:-//Pride At Work Canada - ECPv6.15.20//NONSGML v1.0//EN
CALSCALE:GREGORIAN
METHOD:PUBLISH
X-WR-CALNAME:Pride At Work Canada
X-ORIGINAL-URL:https://staging.prideatwork.ca
X-WR-CALDESC:Events for Pride At Work Canada
REFRESH-INTERVAL;VALUE=DURATION:PT1H
X-Robots-Tag:noindex
X-PUBLISHED-TTL:PT1H
BEGIN:VTIMEZONE
TZID:America/Edmonton
BEGIN:DAYLIGHT
TZOFFSETFROM:-0700
TZOFFSETTO:-0600
TZNAME:MDT
DTSTART:20250309T090000
END:DAYLIGHT
BEGIN:STANDARD
TZOFFSETFROM:-0600
TZOFFSETTO:-0700
TZNAME:MST
DTSTART:20251102T080000
END:STANDARD
BEGIN:DAYLIGHT
TZOFFSETFROM:-0700
TZOFFSETTO:-0600
TZNAME:MDT
DTSTART:20260308T090000
END:DAYLIGHT
BEGIN:STANDARD
TZOFFSETFROM:-0600
TZOFFSETTO:-0700
TZNAME:MST
DTSTART:20261101T080000
END:STANDARD
BEGIN:DAYLIGHT
TZOFFSETFROM:-0700
TZOFFSETTO:-0600
TZNAME:MDT
DTSTART:20270314T090000
END:DAYLIGHT
BEGIN:STANDARD
TZOFFSETFROM:-0600
TZOFFSETTO:-0700
TZNAME:MST
DTSTART:20271107T080000
END:STANDARD
END:VTIMEZONE
BEGIN:VTIMEZONE
TZID:America/Toronto
BEGIN:DAYLIGHT
TZOFFSETFROM:-0500
TZOFFSETTO:-0400
TZNAME:EDT
DTSTART:20250309T070000
END:DAYLIGHT
BEGIN:STANDARD
TZOFFSETFROM:-0400
TZOFFSETTO:-0500
TZNAME:EST
DTSTART:20251102T060000
END:STANDARD
BEGIN:DAYLIGHT
TZOFFSETFROM:-0500
TZOFFSETTO:-0400
TZNAME:EDT
DTSTART:20260308T070000
END:DAYLIGHT
BEGIN:STANDARD
TZOFFSETFROM:-0400
TZOFFSETTO:-0500
TZNAME:EST
DTSTART:20261101T060000
END:STANDARD
BEGIN:DAYLIGHT
TZOFFSETFROM:-0500
TZOFFSETTO:-0400
TZNAME:EDT
DTSTART:20270314T070000
END:DAYLIGHT
BEGIN:STANDARD
TZOFFSETFROM:-0400
TZOFFSETTO:-0500
TZNAME:EST
DTSTART:20271107T060000
END:STANDARD
END:VTIMEZONE
BEGIN:VTIMEZONE
TZID:America/Halifax
BEGIN:DAYLIGHT
TZOFFSETFROM:-0400
TZOFFSETTO:-0300
TZNAME:ADT
DTSTART:20250309T060000
END:DAYLIGHT
BEGIN:STANDARD
TZOFFSETFROM:-0300
TZOFFSETTO:-0400
TZNAME:AST
DTSTART:20251102T050000
END:STANDARD
BEGIN:DAYLIGHT
TZOFFSETFROM:-0400
TZOFFSETTO:-0300
TZNAME:ADT
DTSTART:20260308T060000
END:DAYLIGHT
BEGIN:STANDARD
TZOFFSETFROM:-0300
TZOFFSETTO:-0400
TZNAME:AST
DTSTART:20261101T050000
END:STANDARD
BEGIN:DAYLIGHT
TZOFFSETFROM:-0400
TZOFFSETTO:-0300
TZNAME:ADT
DTSTART:20270314T060000
END:DAYLIGHT
BEGIN:STANDARD
TZOFFSETFROM:-0300
TZOFFSETTO:-0400
TZNAME:AST
DTSTART:20271107T050000
END:STANDARD
END:VTIMEZONE
BEGIN:VEVENT
DTSTART;TZID=America/Edmonton:20260204T160000
DTEND;TZID=America/Edmonton:20260204T170000
DTSTAMP:20260419T182303
CREATED:20251222T212850Z
LAST-MODIFIED:20251222T212850Z
UID:10000956-1770220800-1770224400@staging.prideatwork.ca
SUMMARY:Calgary Ambassador Meeting
DESCRIPTION:Wednesday\, February 4\, 2025 | 4:00pm – 5:00pm MT \nThe Ambassador Program operates as a series of regional groups made up of representatives from our Proud Partner network who share best practices and strategies for creating 2SLGBTQIA+ affirming work environments. \nTo learn more about the program and join\, visit https://prideatwork.ca/programs/ambassador-program/
URL:https://staging.prideatwork.ca/event/ambassador-20260204/
CATEGORIES:Leadership,Networking
END:VEVENT
BEGIN:VEVENT
DTSTART;TZID=America/Toronto:20260205T120000
DTEND;TZID=America/Toronto:20260205T130000
DTSTAMP:20260419T182303
CREATED:20251222T212300Z
LAST-MODIFIED:20251222T212335Z
UID:10000954-1770292800-1770296400@staging.prideatwork.ca
SUMMARY:Ontario Ambassador Meeting
DESCRIPTION:Thursday\, February 5\, 2026 | 12:00pm – 1:00pm EST \nThe Ambassador Program operates as a series of regional groups made up of representatives from our Proud Partner network who share best practices and strategies for creating 2SLGBTQIA+ affirming work environments. \nTo learn more about the program and join\, visit https://prideatwork.ca/programs/ambassador-program/
URL:https://staging.prideatwork.ca/event/ambassador-20260205/
CATEGORIES:Leadership,Networking
END:VEVENT
BEGIN:VEVENT
DTSTART;TZID=America/Toronto:20260210T170000
DTEND;TZID=America/Toronto:20260210T180000
DTSTAMP:20260419T182303
CREATED:20251119T190429Z
LAST-MODIFIED:20260112T220844Z
UID:10000941-1770742800-1770746400@staging.prideatwork.ca
SUMMARY:THRIVE 2026: Information Session
DESCRIPTION:February 10th 2026\, 5pm-6pm ET \nJoin us for an Information Session about THRIVE\, a transformative ten-week virtual program designed to empower and develop the next generation of Two-Spirit\, queer\, and trans people managers. If you’re ready to step into leadership roles with confidence and pride\, this session is for you! \nAbout THRIVE:\nTHRIVE is a ten-week virtual program that will develop the next generation of Two-Spirit\, queer and trans people managers. Participants will get exclusive access to queer and trans leaders working at the highest levels of Canadian business and engage in important peer-to-peer discussions. Through live Zoom sessions\, collaborative group study\, and self-directed work our sixth THRIVE cohort will collectively unlock their potential as out leaders. \nTHRIVE will help you enhance your skills\, build your network\, and take your career to the next level as an out leader. \nAccessibility:\n\nSpoken language: English\nAutomatic translation: English to French\nClose captioning provided: English and French\nFormat: Virtual (Zoom in webinar mode)\nEngagement type: participants invited to engage via chat (no audio or video)\nPlease register below additional accessibility requests.\n\nRegistration for this event has closed.\nQuestions about THRIVE 2026 can be directed to Templeton Sawyer (he/him)\, Leadership Programs Coordinator\, at templeton.sawyer@prideatwork.ca.
URL:https://staging.prideatwork.ca/event/webinar-20260210/
CATEGORIES:Free event,Leadership,Webinar
END:VEVENT
BEGIN:VEVENT
DTSTART;TZID=America/Halifax:20260211T140000
DTEND;TZID=America/Halifax:20260211T150000
DTSTAMP:20260419T182303
CREATED:20251222T210927Z
LAST-MODIFIED:20251222T210927Z
UID:10000950-1770818400-1770822000@staging.prideatwork.ca
SUMMARY:Atlantic Ambassador Meeting
DESCRIPTION:Wednesday\, February 11\, 2026 | 2:00pm AT | 2:30pm NL \nThe Ambassador Program operates as a series of regional groups made up of representatives from our Proud Partner network who share best practices and strategies for creating 2SLGBTQIA+ affirming work environments. \nTo learn more about the program and join\, visit prideatwork.ca/programs/ambassador-program/
URL:https://staging.prideatwork.ca/event/ambassador-20260211/
END:VEVENT
BEGIN:VEVENT
DTSTART;TZID=America/Toronto:20260217T160000
DTEND;TZID=America/Toronto:20260217T203000
DTSTAMP:20260419T182303
CREATED:20251121T192832Z
LAST-MODIFIED:20260209T215829Z
UID:10000942-1771344000-1771360200@staging.prideatwork.ca
SUMMARY:Winter Pride 2026
DESCRIPTION:Tuesday\, February 17\, 2026\, from 4:00 PM to 8:30 PM EST – This in-person event is open to the public and requires a ticket to attend. \nPresented by Pride at Work Canada \nWinter Pride returns on February 17\, 2026\, to Montreal for an evening of learning and networking with other 2SLGBTQIA + professionals and allies promoting workplace inclusion. \nHost Partner\n[vc_row columns_placement=”middle” nav_skin=”dark” consent_include=”include” equal_height=”true”][vc_column width=”1/6″][/vc_column][vc_column width=”1/3″][/vc_column][vc_column width=”1/3″] \nRBC – Royal Bank of Canada\nRBC QUAD – 1 Place Ville Marie\, Montréal\, Québec \n[/vc_column][vc_column width=”1/6″][/vc_column][/vc_row] \nAGENDA\n\n4:00 PM to 5:00 PM – Leading Change Inside and Outside the Workplace\n5:30 PM to 8:30 PM – Networking Reception\n\nDrinks and appetizers are included. \n\nWinter Pride: Leading Change Inside and Outside the Workplace\n4:00 pm – 5:00 pm / Banker Room – 41st Floor\nPresented by: Beneva \n \nJoin Pride at Work Canada for a compelling Winter Pride event focused on how to lead change both within and outside the workplace. Leading change takes many forms\, from policy improvements and employee resource groups to community organizing and grassroots change\, our panel will spotlight leaders who bridge these worlds. Together\, they will discuss how queer and trans leadership shows up at work\, how to build supportive cultures within organizations\, and how the push for equity continues beyond office walls into our broader communities. \nPanelists\n[vc_row][vc_column width=”1/3″] \n \nManon Massé\nPhoto Credit: Kim Bouchard\, 2025\n \n[/vc_column][vc_column width=”2/3″] \nManon Massé has been the Member of the National Assembly for Sainte-Marie–Saint-Jacques since 2014 and served as co-spokesperson for Québec solidaire from 2017 to 2023. A long-time social justice activist\, she is the spokesperson for the second opposition group on issues affecting 2SLGBTQIA+ communities. She has established herself as a strong voice on social and community issues\, notably through the historic recognition of Montréal’s Gay Village as a site of emancipation for 2SLGBTQIA+ communities. Her career is marked by leadership\, commitment\, and steadfast dedication to the values of inclusion\, justice\, and solidarity. \n[/vc_column][/vc_row] \n[vc_row][vc_column width=”1/3″] \n \nJoe Rioux \n[/vc_column][vc_column width=”2/3″] \nJoe Rioux is the Canadian leader for EY’s Entrepreneurial Winning Women® and Entrepreneurs Access Network\, programs dedicated to supporting women-owned and Black\, Indigenous\, pan-Asian\, and Latino-owned businesses. With over 20 years of experience in business development and strategic marketing\, Joe is a bilingual professional recognized for driving growth and fostering inclusion. \nA proud member of the 2SLGBTQ+ community\, Joe leads EY’s Unity network in Montréal and Québec\, advocating for diversity\, equity\, equality\, and belonging. Outside of work\, Joe is a fitness enthusiast who enjoys outdoor activities and values time spent with her partner of over 22 years\, and close friends. \n[/vc_column][/vc_row] \n[vc_row][vc_column width=”1/3″] \n \nMichaël Arnaud \n[/vc_column][vc_column width=”2/3″] \nMichaël Arnaud comes from the humanitarian and international development sector. He is the current Executive Director of Égides\, an international francophone alliance of civil society organizations and groups supporting and promoting LGBTQI rights globally. He is also Action Against Hunger’s Canada former Associate Director for gender equality and gender-based violence\, providing strategic and technical direction at international level for the integration of gender issues and the prevention of gender-based violence in assistance programs. Determined promoter of a people and diversity centred approach\, he has continuously advocated for a better awareness of power relations\, oppression and the necessity to support the voices of the most marginalized in all the organizations he has worked for. With a Master’s degree in international humanitarian law\, he has been working for the past 15 years on gender\, equality\, diversity and gender-based violence in various contexts\, including in Burkina Faso\, Haiti\, Vietnam and the Occupied Palestinian Territory. He also actively supports LGBTQI+ rights through various volunteer roles in the communities. \n[/vc_column][/vc_row] \n[vc_row][vc_column width=”1/3″] \n \nTranna Wintour \n[/vc_column][vc_column width=”2/3″] \nTranna Wintour is a comedian\, writer\, actor\, singer\, and podcaster. She has recorded gala performances with Just for Laughs in both English and French\, and was one of the festival’s prestigious New Faces Canada in 2019. She has performed on stages and in festivals across the country and was named by Fashion magazine as one of the queens of Canadian comedy. In 2022\, Tranna became a breakout star on Québec’s Big Brother Célébrités. Last year\, she returned to reality TV on CTV/Crave’s The Traitors Canada\, where her honest and magnetic personality took her to the final two\, cementing her as one of the franchise’s most beloved and unforgettable players. In addition to her work as a performer\, Tranna co-hosted and co-produced CBC Podcasts’ Chosen Family for three seasons; it was named one of Apple’s Best Podcasts for two consecutive years. \n[/vc_column][/vc_row] \nModerator\n[vc_row][vc_column width=”1/3″] \n \nCynthia Eysseric \n[/vc_column][vc_column width=”2/3″] \nCynthia is a dedicated professional working at the intersection of feminism\, LGBTQ+ rights\, and sexuality education. She holds a bachelor’s degree in sexology from the Université du Québec à Montréal and a certificate in entrepreneurship and SME management from Université Laval\, bringing a strategic and inclusive approach to her work. Her commitment to LGBTQ+ communities has led her to collaborate with several organizations\, including the Réseau des lesbiennes du Québec (RLQ) and Club Sexu\, where she serves as Vice President on the Board. She is also part of the team at Fierté au travail Canada\, a national organization advocating for LGBTQ+ workplace inclusion. Passionate about organizational inclusion\, Cynthia began a graduate microprogram in equity\, diversity\, and inclusion in the workplace at Université Laval in 2024. Her work aims to strengthen intersectionality within the spaces she engages in\, reinforcing her commitment to creating more just and representative environments. \n[/vc_column][/vc_row] \nTickets\nGet your tickets on Eventbrite. \n\n$80 + taxes (Proud Partners and Community Partners)\n$120 + taxes (Non-Partners)\n\n*The session includes access to the following networking reception hosted by RBC. \n\nNetworking Reception\n5:30 pm – 8:30 pm / Quad – Main Floor \nAn evening of learning and networking\, Winter Pride returns on February 17\, continuing the annual tradition of bringing the Pride at Work Canada network to Montreal to celebrate the inclusion of 2SLGBTQIA + people in the workplace during the winter season. \nTickets**\nGet your tickets on Eventbrite. \n\n$20 + taxes (Proud Partners and Community Partners)\n$40 + taxes (Non-Partners)\n\n**This contribution helps support Pride at Work’s mission and activities\, and better guarantees the attendance of our registrants. If you are a member of our Community Partners network and would like to participate at a more accessible cost\, please contact us.
URL:https://staging.prideatwork.ca/event/winter-pride-2026/
LOCATION:Quad RBC\, 1 Place Ville Marie\, Montreal\, Quebec\, Canada
CATEGORIES:Networking,Paid event
END:VEVENT
BEGIN:VEVENT
DTSTART;TZID=America/Toronto:20260224T130000
DTEND;TZID=America/Toronto:20260224T143000
DTSTAMP:20260419T182303
CREATED:20260113T173757Z
LAST-MODIFIED:20260128T230459Z
UID:10000964-1771938000-1771943400@staging.prideatwork.ca
SUMMARY:Advocating for Equity: Modernizing the Employment Equity Act [In English]
DESCRIPTION:February 24 @ 1:00 pm – 2:30 PM EDT – this event is exclusive for employees of our Proud Partners and Community Partners. Ce webinaire aura lieu en français le 3 mars. \nEmployment equity has been a priority for 2SLGBTQIA+ communities in Canada for over 50 years. Despite this long term advocacy\, 2SLGBTQIA+ workers remain excluded from the Employment Equity Act’s protections\, leaving them underrepresented in data and equity initiatives\, and facing persistent barriers such as wage gaps\, precarious work\, and higher unemployment. \nIn September 2025\, 2SLGBTQIA+ organizations gathered for coordinated advocacy on Parliament Hill\, meeting with parliamentarians from across the political spectrum\, sharing a clear and united message: equity in employment is not optional—and the time to act is now. \nIt’s time for the Employment Equity Act to explicitly include 2SLGBTQIA+ and Black communities as designated groups\, and to include stronger intersectional\, transparent\, and accountable mechanisms that reflect today’s workplace realities. \nJoin us to learn about our proposed updates to the Act\, our advocacy work\, and how you can get involved! \nLearning objectives:\n\nUnderstand the gaps in the Employment Equity Act\nLearn about recommendations for the modernization of the Act\nExplore advocacy efforts and strategies\n\nTarget audience:\n\n2SLGBTQIA+ employees at Pride at Work Canada’s partner organizations\nEmployee Resource Group (ERG) leaders\nHR & DEI Professionals\n\nPanelists\n[vc_row][vc_column width=”1/3″] \n\nBilan Arte (she/her)\nNational Representative\, Human Rights Department\nCanadian Labour Congress \n[/vc_column][vc_column width=”2/3″] \nBilan Arte is an award-winning activist and organizer with over fifteen years of experience in campaigns\, leadership\, and movement building. She holds a master’s degree in public administration from the University of Ottawa\, and she is the National Representative for Human Rights at the Canadian Labour Congress. \nBilan is a Black\, Muslim feminist who lives and works in the unceded and never-surrendered traditional territories of the Algonquin and Anishinaabe peoples. \nIn all aspects of her work\, Bilan is fueled by her passion for social justice and equity. \n[/vc_column][/vc_row] \n[vc_row][vc_column width=”1/3″] \n\nNoah Inniss-Parchment (he/him)\nManager\, Operations\nLGBT YouthLine \n[/vc_column][vc_column width=”2/3″] \nNoah is a Black person of Jamaican descent and of trans experience born and raised on the traditional unceded unsurrendered lands of the Algonquin Anishinaabe people (Ottawa). He received his Bachelor of Social Work in 2014 from Carleton University\, and has since worked and volunteered for various 2SLGBTQI+ organisations nationally\, and within Ottawa and Toronto. Noah previously worked at YouthLine in 2017\, and is excited to be back leading and supporting operations. \n[/vc_column][/vc_row] \nFacilitator\n[vc_row][vc_column width=”1/3″] \n\nQuinn Blue (he/they)\nProgram & Engagement Coordinator \n[/vc_column][vc_column width=”2/3″] \nQuinn Blue is a professional in 2SLGBTQIA+ education and programming. Quinn spent over a decade working in the student movement\, having held equity and inclusion-focused roles at the University of Ottawa and at Algonquin College. His formal education is in Women and Gender Studies and in Teaching Adult Learners. They’ve volunteered extensively with the Ten Oaks Project\, which taught them about the incredible value of community building. Quinn is passionate about change-making and learning. \n[/vc_column][/vc_row] \nAccessibility\n\nSpoken language: English\nAutomatic translation: English to French\nClosed captioning provided: English and French\nFormat: Virtual (Zoom in webinar mode)\nEngagement type: participants invited to engage via chat (no audio or video)\n\nPlease register below additional accessibility requests. Any questions may be sent to events@prideatwork.ca \nRegistration for this event has closed.
URL:https://staging.prideatwork.ca/event/webinar-20260224/
CATEGORIES:Leadership,Webinar
END:VEVENT
END:VCALENDAR