BEGIN:VCALENDAR
VERSION:2.0
PRODID:-//Pride At Work Canada - ECPv6.15.20//NONSGML v1.0//EN
CALSCALE:GREGORIAN
METHOD:PUBLISH
X-ORIGINAL-URL:https://staging.prideatwork.ca
X-WR-CALDESC:Events for Pride At Work Canada
REFRESH-INTERVAL;VALUE=DURATION:PT1H
X-Robots-Tag:noindex
X-PUBLISHED-TTL:PT1H
BEGIN:VTIMEZONE
TZID:America/Toronto
BEGIN:DAYLIGHT
TZOFFSETFROM:-0500
TZOFFSETTO:-0400
TZNAME:EDT
DTSTART:20240310T070000
END:DAYLIGHT
BEGIN:STANDARD
TZOFFSETFROM:-0400
TZOFFSETTO:-0500
TZNAME:EST
DTSTART:20241103T060000
END:STANDARD
BEGIN:DAYLIGHT
TZOFFSETFROM:-0500
TZOFFSETTO:-0400
TZNAME:EDT
DTSTART:20250309T070000
END:DAYLIGHT
BEGIN:STANDARD
TZOFFSETFROM:-0400
TZOFFSETTO:-0500
TZNAME:EST
DTSTART:20251102T060000
END:STANDARD
BEGIN:DAYLIGHT
TZOFFSETFROM:-0500
TZOFFSETTO:-0400
TZNAME:EDT
DTSTART:20260308T070000
END:DAYLIGHT
BEGIN:STANDARD
TZOFFSETFROM:-0400
TZOFFSETTO:-0500
TZNAME:EST
DTSTART:20261101T060000
END:STANDARD
END:VTIMEZONE
BEGIN:VEVENT
DTSTART;TZID=America/Toronto:20250806T160000
DTEND;TZID=America/Toronto:20250806T203000
DTSTAMP:20260420T173622
CREATED:20250529T174325Z
LAST-MODIFIED:20250724T164859Z
UID:10000873-1754496000-1754512200@staging.prideatwork.ca
SUMMARY:Montreal ProPride 2025
DESCRIPTION:Wednesday\, August 6\, 2025\, from 4:00 PM to 8:30 PM EDT – This in-person event is open to all who wish to register. \n \nPresented by Desjardins. \nIn collaboration with EY\, BDC\, sid lee and Fierté Montréal \nJoin us on August 6 for a vibrant evening of connection\, celebration\, and community\, hosted by Pride at Work Canada in the heart of Tio’tia:ke/Montréal. Montréal ProPride event is all about bringing together folks who are committed to safeguarding and uplifting 2SLGBTQIA+ human rights in their workplaces and beyond. \nWhether you’re a professional\, job seeker\, community advocate\, or ally\, this is a space to meet others who share your values\, exchange experiences\, and build relationships rooted in community and connection. Together\, we’ll honour the work being done to create safer\, more accessible spaces for 2SLGBTQIA+ communities across all sectors. \nCome ready to connect\, be inspired\, and celebrate what’s possible when we lead with intention and solidarity. \nHOST\n[vc_row][vc_column width=”1/4″] \n \nBarbada \n[/vc_column][vc_column width=”3/4″] \nDynamic\, funny and endearing\, Barbada is a drag artist who has been performing across Canada since 2005. Versatile\, she delivers disco\, pop and dance performances in the evening and hosts story time for children of all ages during the day. \n[/vc_column][/vc_row] \nSCHEDULE\n4:00 PM – 5:00 PM EDT – Panel Discussion presented by BDC (by registration – 70 spots available\, granting access to the cocktail) \n\nBDC offices (BDC Square 5 Place Ville Marie Rez-de-Chaussée Montréal\, Qc)\n\n5:00 PM – 5:30 PM EDT – Pride Walk – Please join us for a short (5 minute) walk between the BDC and Sid Lee offices. Led by Barbada please bring your flags\, your Pride t-shirt\, and your excitement as we march gayfully from one office to the other. Pride is a movement\, not just a moment. \n5:30 PM – 8:30 PM EDT – Montreal ProPride Cocktail presented by Desjardins \n\nsid lee offices (sid lee 12102-1 Place Ville Marie\, Montreal\, Quebec\, H3B 3Y1\, Canada)\n\nSPONSORS\nPRESENTED BY\n \n  \nIN COLLABORATION WITH\n[vc_row equal_height=”yes” content_placement=”bottom”] \n[vc_column width=”1/4″][/vc_column][vc_column width=”1/4″][/vc_column][vc_column width=”1/4″][/vc_column][vc_column width=”1/4″][/vc_column][/vc_row] \n  \nPanel\nThe Cost of Silence: Why Allyship Matters Now More Than Ever \nIn a time marked by increasing visibility and simultaneous backlash against 2SLGBTQIA+ communities\, silence is not neutrality—it’s complicity. This panel explores the critical role of allyship in standing up for two-spirit\, queer and trans human rights and the challenges 2SLGBTQIA+ communities continue to face across workplaces\, communities\, and public life. \nOur panelists—leaders\, advocates\, and changemakers—will unpack the real-world consequences of inaction and the power of intentional\, sustained allyship. Together\, we’ll examine the personal and collective costs of silence\, the discomfort of learning and unlearning\, and how meaningful solidarity can look in different contexts.\nIf you’ve ever wondered\, “What does allyship actually look like?” or “How can I do better?”\, this conversation is for you. \nModerator: \n[vc_row][vc_column width=”1/4″] \n \nFlorence Gagnon (she/her)\nManager of Brand & Sponsorships\, Pride at Work Canada \n[/vc_column][vc_column width=”3/4″] \nFlorence Gagnon holds a Bachelor of Fine Arts degree from Concordia University. She has spent the last 10 years working to ‘spread the word’ and increase visibility for lesbians within and outside of the LGBTQ+ community. In 2012\, she created a platform to provide a resource to lesbian communities\, Lez Spread The Word\, the first bilingual website of its kind in Canada. In 2014\, she launched the FÉMININ / FÉMININ television series\, with director Chloé Robichaud (Sarah Préfère la Course and Boudaries)\, who won two Gemini Awards in Quebec and several international prizes in 2015. In 2016\, she published the first LSTW magazine\, a 230-page bilingual annual magazine that stands out in stores across Canadian provinces\, European capitals and major US cities. She was awarded the Publisher Grand Prix at the National Magazine Awards in 2021 and 2025. \n[/vc_column][/vc_row] \nPanelists: \n[vc_row][vc_column width=”1/4″] \n\nAngélique Pelée de Saint Maurice (she/her)\nEquity\, Diversity\, and Inclusion Advisor\, Desjardins \n[/vc_column][vc_column width=”3/4″] \nBorn in France\, Angélique settled in Quebec nearly ten years ago\, after several transatlantic trips. An equity\, diversity\, and inclusion advisor\, she is actively involved in advancing causes that are close to her heart\, both in her professional and personal life. A member of the Desjardins LGBTQ+ Committee and a proud ally of the community\, Angélique is also the mother of a non-binary teenager\, which fuels her deep commitment to a more inclusive and caring world. \n[/vc_column][/vc_row] \n[vc_row][vc_column width=”1/4″] \n\nMathieu Ménard (il/lui)\nEntrepreneur \n[/vc_column][vc_column width=”3/4″] \nMathieu Ménard\, former marketing and branding strategist (TUX\, Featuring)\, launched Le Chasseur\, a gourmet restaurant nestled in the working-class neighborhood of Hochelaga\, in 2012. Against all odds\, the establishment rose to become one of the 50 best restaurants in Montreal. A series of notable projects followed: Brasserie Blind Pig (2015)\, the Gargantua food truck and La Tannerie restaurant (2016)\, the Minéral wine bar (2020\, winner of five design awards)\, and the complete rebranding of the Waverly bar (2021). \n[/vc_column][/vc_row] \n[vc_row][vc_column width=”1/4″] \n\nTamara Tepox (she/they)\nQueer Activist | DEI Leader | Founder of Alstom True Colours \n  \n[/vc_column][vc_column width=”3/4″] \nTamara Tepox is a proud Mexican-Canadian and long-standing queer activist\, advocating for 2SLGBTQIA+ rights since 1999. With a deep commitment to amplifying marginalized voices\, Tamara creates spaces where vulnerability is embraced\, difficult conversations are encouraged\, and healing can begin. \nProfessionally\, Tamara is the founder and co-lead of Alstom True Colours\, the company’s first 2SLGBTQIA+ Employee Resource Group. Through this initiative\, they drive meaningful change by fostering inclusion and visibility within the corporate world. \nIn 2021\, Tamara launched the Rainbow Train\, a Virtual Pride March that redefines workplace celebration by inviting participation through any form of physical activity. This innovative project earned national acclaim\, receiving the 2023 CUTA Canadian Urban Transportation Award for Diversity\, Equity\, and Inclusion. \nTamara holds a degree in Natural Sciences from the Universidad Autónoma Metropolitana and blends activism\, creativity\, and leadership to uplift queer communities and artists. Their work continues to inspire transformation across corporate\, cultural\, and public spaces. \n[/vc_column][/vc_row] \n[vc_row][vc_column width=”1/4″] \n\nVictoria F. Legault (elle/la)\nExecutive Director\, Aide aux Trans du Québec \n[/vc_column][vc_column width=”3/4″] \nVictoria F. Legault is a trans woman from Abitibi-Témiscamingue with an unconventional professional background. At 24\, she is the Executive Director of Aide aux Trans du Québec and previously worked as a deputy clerk at the Quebec Ministry of Justice for nearly two years\, primarily serving in Northern Quebec. Victoria is also a member of the Union des artistes and currently holds the “Under 30” seat on the board of Égides – the International Francophone Alliance for Equality and Diversities. \nA long-time advocate for LGBTQI+ rights\, she sits on several community-based research committees and is deeply passionate about the nonprofit sector. She is currently completing the Leadership\, Impact\, and Management in Business program at Harvard Business School Online. \n[/vc_column][/vc_row] \nTickets:\nRegister today for this in person event. \nPanel and Cocktail Reception* \n\nMember tickets (Proud Partners and Community Partners): $80 (+ taxes)\nNon-member tickets: $120 (+ taxes)\n\nCocktail Reception* \n\nMember tickets (Proud Partners and Community Partners): $20 (+ taxes)\nNon-member tickets: $40 (+ taxes)\n\n*This contribution helps support Pride at Work’s mission and activities\, and better guarantees the attendance of our registrants. If you are a member of our Community Partners network and would like to participate at a more accessible cost\, please contact us. \nAbout ProPride:\nProPride is an innovative event series hosted by Pride at Work Canada\, bringing together inclusive employers\, 2SLGBTQIA+ thought leaders\, and community organizations for engaging conversations\, networking opportunities\, panel and roundtable discussions. With a commitment to creating inclusive spaces beyond Pride celebrations\, ProPride provides a dynamic environment for employees\, job seekers\, and community members\, as well as employers committed to 2SLGBTQIA+ human rights in the workplace. Join us for access to the most relevant topics and current research\, as we celebrate progress in 2SLGBTQIA+ leadership and human rights and create a better\, more welcoming future for all. \nIf you would like to register after the deadline\, please send an email to events@prideatwork.ca. \n 
URL:https://staging.prideatwork.ca/event/montreal-propride-2025/
CATEGORIES:Networking,ProPride
END:VEVENT
BEGIN:VEVENT
DTSTART;TZID=America/Toronto:20250812T110000
DTEND;TZID=America/Toronto:20250812T120000
DTSTAMP:20260420T173622
CREATED:20250716T223315Z
LAST-MODIFIED:20250716T223351Z
UID:10000888-1754996400-1755000000@staging.prideatwork.ca
SUMMARY:Manitoba Ambassador Meeting
DESCRIPTION:The Ambassador Program operates as a series of regional groups made up of representatives from our Proud Partner network who share best practices and strategies for creating 2SLGBTQIA+ affirming work environments. \nTo learn more about the program and join\, visit https://prideatwork.ca/programs/ambassador-program/
URL:https://staging.prideatwork.ca/event/manitoba-ambassador-meeting/
CATEGORIES:Free event,Leadership,Networking
END:VEVENT
BEGIN:VEVENT
DTSTART;TZID=America/Toronto:20250812T160000
DTEND;TZID=America/Toronto:20250812T170000
DTSTAMP:20260420T173622
CREATED:20250702T204809Z
LAST-MODIFIED:20250704T202610Z
UID:10000876-1755014400-1755018000@staging.prideatwork.ca
SUMMARY:Webinar: FLOURISH Information session
DESCRIPTION:FLOURISH is an eight-week virtual program that will develop the skills required for 2SLGBTQIA+ Employee Resource Group (ERG)* leaders to be effective and successful in their roles. Those who lead 2SLGBTQIA+ ERGs have an enormous opportunity to create change for Two-Spirit\, queer and trans employees. They also face very specific challenges in Canadian workplaces. While session content will touch on the mechanics of ERGs\, the primary focus of FLOURISH will be developing individual competency in four areas: \n\nFrom Policy to Practice – Living Our Rights\, Honoring Our Identities\nTelling the Story/Impact of Your ERG\nNavigating Polarization\nPrinciples of Peer Support\n\nThrough live Zoom sessions\, virtual learning modules and self-directed work\, our FLOURISH program will collectively unlock their potential as ERG leaders. \nInterested in learning more? Sign up to this information session! \nKey Learning Objectives:\n\nProvide an overview of the FLOURISH 2025 program structure and timeline\nHighlight the importance and impact of 2SLGBTQIA+ ERG leadership in Canadian workplaces\nExplain the types of learning experiences and activities participants can expect\nAnswer questions and provide clarity on eligibility\, registration\, and support\n\nAudience:\n\nThis event is for anyone interested in knowing more about the FLOURISH 2025 program\n\nAbout the Speaker:\n[vc_row][vc_column width=”1/4″] \n \nTempleton Sawyer (he/him)\nLeadership Programs Coordinator\, Pride at Work Canada \n[/vc_column][vc_column width=”3/4″] \nTempleton Sawyer was an Employment Support Practitioner with Teamwork Cooperative\, the host of Tweet the Leader in You podcast\, and co-facilitator of the CEI and Teamwork’s Youth-Focused Community of Practice in Halifax Nova Scotia. He brings a great deal of lived experience to the table and is a passionate Youth Advocate who seeks to help youth in both Nova Scotia\, Ontario and the Bahamas believe in themselves and increase their self-confidence through leadership and skill development programs. When Templeton thinks about the word inclusion\, he has a passion to place action into including everyone. Templeton continues his inclusion advocacies through a Youth Focused Community of Practice which he Co-Author\, this space provides service providers to grow and develop new strategies to serve youth and people in general. \n[/vc_column][vc_row] \nAccessibility:\n\nSpoken language: English\nClosed captioning provided: English\nFormat: Virtual (Zoom in webinar mode)\nEngagement type: participants invited to engage via chat (no audio or video)\n\nPlease register below additional accessibility requests. Any questions may be sent to events@prideatwork.ca \nRegistration for this event has closed.
URL:https://staging.prideatwork.ca/event/webinar-20250812/
CATEGORIES:Free event,Leadership,Webinar
END:VEVENT
BEGIN:VEVENT
DTSTART;TZID=America/Toronto:20250813T120000
DTEND;TZID=America/Toronto:20250813T130000
DTSTAMP:20260420T173622
CREATED:20250716T224505Z
LAST-MODIFIED:20250716T224505Z
UID:10000892-1755086400-1755090000@staging.prideatwork.ca
SUMMARY:Quebec Ambassdor Meeting
DESCRIPTION:The Ambassador Program operates as a series of regional groups made up of representatives from our Proud Partner network who share best practices and strategies for creating 2SLGBTQIA+ affirming work environments. \nTo learn more about the program and join\, visit https://prideatwork.ca/programs/ambassador-program/
URL:https://staging.prideatwork.ca/event/quebec-ambassdor-meeting/
CATEGORIES:Free event,Leadership,Networking
END:VEVENT
BEGIN:VEVENT
DTSTART;TZID=America/Toronto:20250813T180000
DTEND;TZID=America/Toronto:20250813T190000
DTSTAMP:20260420T173622
CREATED:20250716T222914Z
LAST-MODIFIED:20250716T222914Z
UID:10000886-1755108000-1755111600@staging.prideatwork.ca
SUMMARY:Calgary Ambassador Meeting
DESCRIPTION:The Ambassador Program operates as a series of regional groups made up of representatives from our Proud Partner network who share best practices and strategies for creating 2SLGBTQIA+ affirming work environments. \nTo learn more about the program and join\, visit https://prideatwork.ca/programs/ambassador-program/
URL:https://staging.prideatwork.ca/event/calgary-ambassador-meeting/
CATEGORIES:Free event,Leadership,Networking
END:VEVENT
BEGIN:VEVENT
DTSTART;TZID=America/Toronto:20250819T160000
DTEND;TZID=America/Toronto:20250819T170000
DTSTAMP:20260420T173622
CREATED:20250716T222619Z
LAST-MODIFIED:20250815T194827Z
UID:10000884-1755619200-1755622800@staging.prideatwork.ca
SUMMARY:British Columbia Ambassadors Meeting
DESCRIPTION:August 19\, 2025 | 4:00pm – 5:00pm ET (1:00pm-2:00pm PT) \nThe Ambassador Program operates as a series of regional groups made up of representatives from our Proud Partner network who share best practices and strategies for creating 2SLGBTQIA+ affirming work environments. \nTo learn more about the program and join\, visit https://prideatwork.ca/programs/ambassador-program/
URL:https://staging.prideatwork.ca/event/british-columbia-ambassadors-meeting/
CATEGORIES:Free event,Leadership,Networking
END:VEVENT
BEGIN:VEVENT
DTSTART;TZID=America/Toronto:20250821T120000
DTEND;TZID=America/Toronto:20250821T130000
DTSTAMP:20260420T173622
CREATED:20250703T163946Z
LAST-MODIFIED:20250729T161412Z
UID:10000875-1755777600-1755781200@staging.prideatwork.ca
SUMMARY:THRIVE and FLOURISH Alumni Summer Gathering
DESCRIPTION:This webinar is open to THRIVE and FLOURISH Alumni.\nThursday\, August 21st\, 2025 at 12:00 PM – 1:00 PM EDT | Via Zoom: Webinar \nJoin us for a special summer gathering of FLOURISH and THRIVE alumni\, featuring an inspiring session with Jennifer Quinn\, CEO of Nieuport Aviation. With a dynamic career spanning leadership roles at Deloitte\, Infrastructure Ontario\, and now at the helm of Nieuport\, Jennifer brings a wealth of insight on navigating complex industries with vision and purpose. This powerful conversation will explore how leaders can intentionally create space for growth\, inclusion\, and transformation—by challenging norms and making room for others to rise. Don’t miss this opportunity to reconnect\, be inspired\, and gain exclusive insights from one of Canada’s top executives. \nKey Learning Objectives:\n\nIlluminate the Power of Intentional Leadership: Learn how leaders can consciously reshape spaces to inspire innovation and foster belonging.\nShare Jennifer’s Personal Journey of Change-Making: Hear firsthand about her experiences navigating and influencing systems to create meaningful opportunities for others.\nProvide Practical Strategies for Inclusive Leadership: Gain tools and insights to recognize when a room needs “shifting” and how to lead those transitions effectively.\nInspire Empowerment Through Vulnerability and Vision: Be motivated to lead boldly—embracing vulnerability\, courage\, and purpose in your own leadership journey.\n\nAudience:\nThis event is exclusively for FLOURISH and THRIVE Alumni \nFeature Speaker:\n[vc_row][vc_column width=”1/4″] \n\nJennifer Quinn (she/her)\nCEO of Nieuport Aviation \n[/vc_column][vc_column width=”3/4″] \nWe’re thrilled to welcome Jennifer Quinn\, CEO of Nieuport Aviation\, as our special guest speaker. Since 2021\, Jennifer has led Nieuport’s operations\, strategy\, stakeholder relations\, and public affairs with vision and expertise. Her impressive career spans public and private sectors\, including leadership roles at Deloitte and Infrastructure Ontario. \nIn 2024\, Jennifer was awarded the Report on Business magazine Best Executive Award from the Globe and Mail for her impactful leadership—guiding Nieuport’s operations through pandemic recovery and collaborating with PortsToronto to bring a U.S. Preclearance facility to the airport (expected late 2025). She was also recognized as one of Canada’s 100 Most Powerful Women of 2024 by the Women’s Executive Network. \nA champion of Diversity\, Equity\, and Inclusion\, Jennifer was honoured in 2017 with Start Proud’s Leaders to be Proud of – Professional Leadership Award for her contributions to the LGBTQ community. \nJennifer holds an Honours Bachelor of Accounting from Brock University\, a Master’s Certificate in Public Management from York University\, and is a Chartered Professional Accountant. \n[/vc_column][/vc_row] \nAccessibility:\n\nSpoken language: English\nClosed captioning provided: English\nFormat: Virtual (Zoom in webinar mode)\nEngagement type: participants invited to engage via chat (no audio or video)\nPlease register below additional accessibility requests. Any questions may be sent to events@prideatwork.ca\n\nRegistration for this event has closed.
URL:https://staging.prideatwork.ca/event/thrive-and-flourish-alumni-summer-gathering/
CATEGORIES:Webinar
END:VEVENT
BEGIN:VEVENT
DTSTART;TZID=America/Toronto:20250828T150000
DTEND;TZID=America/Toronto:20250828T160000
DTSTAMP:20260420T173622
CREATED:20250716T223732Z
LAST-MODIFIED:20250815T194944Z
UID:10000890-1756393200-1756396800@staging.prideatwork.ca
SUMMARY:Ontario Ambassador Meeting
DESCRIPTION:August 28\, 2025 | 3:00pm – 4:00pm ET \nThe Ambassador Program operates as a series of regional groups made up of representatives from our Proud Partner network who share best practices and strategies for creating 2SLGBTQIA+ affirming work environments. \nTo learn more about the program and join\, visit https://prideatwork.ca/programs/ambassador-program/
URL:https://staging.prideatwork.ca/event/ontario-ambassador-meeting/
CATEGORIES:Free event,Leadership,Networking
END:VEVENT
END:VCALENDAR