BEGIN:VCALENDAR
VERSION:2.0
PRODID:-//Pride At Work Canada - ECPv6.15.20//NONSGML v1.0//EN
CALSCALE:GREGORIAN
METHOD:PUBLISH
X-WR-CALNAME:Pride At Work Canada
X-ORIGINAL-URL:https://staging.prideatwork.ca
X-WR-CALDESC:Events for Pride At Work Canada
REFRESH-INTERVAL;VALUE=DURATION:PT1H
X-Robots-Tag:noindex
X-PUBLISHED-TTL:PT1H
BEGIN:VTIMEZONE
TZID:America/New_York
BEGIN:DAYLIGHT
TZOFFSETFROM:-0500
TZOFFSETTO:-0400
TZNAME:EDT
DTSTART:20210314T070000
END:DAYLIGHT
BEGIN:STANDARD
TZOFFSETFROM:-0400
TZOFFSETTO:-0500
TZNAME:EST
DTSTART:20211107T060000
END:STANDARD
BEGIN:DAYLIGHT
TZOFFSETFROM:-0500
TZOFFSETTO:-0400
TZNAME:EDT
DTSTART:20220313T070000
END:DAYLIGHT
BEGIN:STANDARD
TZOFFSETFROM:-0400
TZOFFSETTO:-0500
TZNAME:EST
DTSTART:20221106T060000
END:STANDARD
BEGIN:DAYLIGHT
TZOFFSETFROM:-0500
TZOFFSETTO:-0400
TZNAME:EDT
DTSTART:20230312T070000
END:DAYLIGHT
BEGIN:STANDARD
TZOFFSETFROM:-0400
TZOFFSETTO:-0500
TZNAME:EST
DTSTART:20231105T060000
END:STANDARD
END:VTIMEZONE
BEGIN:VEVENT
DTSTART;TZID=America/New_York:20220112T120000
DTEND;TZID=America/New_York:20220112T130000
DTSTAMP:20260425T145020
CREATED:20211129T223647Z
LAST-MODIFIED:20220312T002444Z
UID:10000437-1641988800-1641992400@staging.prideatwork.ca
SUMMARY:National Member Webinar: Loving the Fire - Trauma Informed Conflict Engagement In the Workplace
DESCRIPTION:Wednesday\, January 12\, 2022\, from 12 PM to 1 PM EST – this event is exclusive for employees of our Proud Partners and Community Partners. \nWhat does it mean to hold the often emotionally intense experience of conflict with love and compassion? How can employers embrace conflict as an opportunity for growth and transformation while also being trauma-informed? This webinar explores trauma-informed\, embodied approaches to conflict resolution and engagement. Kai Cheng Thom\, MSc\, Mediator and certified coach will explore connections between individual and collective trauma and conflict in organizations and marginalized communities. Participants will be invited to take part in (optional) experiential activities focused on developing an embodied conflict resolution toolkit\, including meditation and movement\, scenario analysis\, role play\, and group discussion. The key skills of self-soothing\, ethical judgement\, discernment\, and managing polarized/binary thinking are central to this webinar. Kai Cheng will also briefly outline the concepts of trauma theory\, Restorative Justice\, Transformative Justice\, and prison abolition\, which this webinar is grounded in. \nLearning Goals: \n\nGain a basic understanding of trauma’s impact on the body\, brain\, and interpersonal relationships\nAcquire skills for trauma-informed conflict analysis and intervention\nHow to de-escalate conflicts that are informed systemic power\, privilege\, and oppression\n\nAudience: \n\nAll employees of our partner organizations\nInclusion and Diversity professionals\nEmployee Resource Group members\n\nPresenter:\n[vc_row][vc_column width=”1/4″][/vc_column][vc_column width=”3/4″] Kai Cheng Thom (she/her)\, Writer\, Performer & Community Worker \nKai Cheng Thom is a writer\, performer\, and community worker with an extensive background in clinical mental health\, creative arts facilitation\, and diversity/equity consulting.. She is the author of several award-winning books\, including the essay collection I HOPE WE CHOOSE LOVE: A trans girl’s notes from the end of the world. A lifelong learner\, Kai Cheng incorporates many approaches and disciplines in her work\, and is currently studying somatics\, holistic sex education\, and conflict transformation.[/vc_column][/vc_row] \nRegistration for this event has closed.\nThis event is exclusive for employees of our Proud Partners and Community Partners. If you would like to register after the deadline\, please send an email to info@prideatwork.ca
URL:https://staging.prideatwork.ca/event/national-member-webinar-loving-the-fire-trauma-informed-conflict-engagement-in-the-workplace/
CATEGORIES:Webinar
END:VEVENT
END:VCALENDAR