BEGIN:VCALENDAR
VERSION:2.0
PRODID:-//Pride At Work Canada - ECPv6.15.20//NONSGML v1.0//EN
CALSCALE:GREGORIAN
METHOD:PUBLISH
X-ORIGINAL-URL:https://staging.prideatwork.ca
X-WR-CALDESC:Events for Pride At Work Canada
REFRESH-INTERVAL;VALUE=DURATION:PT1H
X-Robots-Tag:noindex
X-PUBLISHED-TTL:PT1H
BEGIN:VTIMEZONE
TZID:America/Halifax
BEGIN:DAYLIGHT
TZOFFSETFROM:-0400
TZOFFSETTO:-0300
TZNAME:ADT
DTSTART:20240310T060000
END:DAYLIGHT
BEGIN:STANDARD
TZOFFSETFROM:-0300
TZOFFSETTO:-0400
TZNAME:AST
DTSTART:20241103T050000
END:STANDARD
BEGIN:DAYLIGHT
TZOFFSETFROM:-0400
TZOFFSETTO:-0300
TZNAME:ADT
DTSTART:20250309T060000
END:DAYLIGHT
BEGIN:STANDARD
TZOFFSETFROM:-0300
TZOFFSETTO:-0400
TZNAME:AST
DTSTART:20251102T050000
END:STANDARD
BEGIN:DAYLIGHT
TZOFFSETFROM:-0400
TZOFFSETTO:-0300
TZNAME:ADT
DTSTART:20260308T060000
END:DAYLIGHT
BEGIN:STANDARD
TZOFFSETFROM:-0300
TZOFFSETTO:-0400
TZNAME:AST
DTSTART:20261101T050000
END:STANDARD
END:VTIMEZONE
BEGIN:VEVENT
DTSTART;TZID=America/Halifax:20251003T140000
DTEND;TZID=America/Halifax:20251003T150000
DTSTAMP:20260420T042407
CREATED:20251003T184120Z
LAST-MODIFIED:20251016T184754Z
UID:10000929-1759500000-1759503600@staging.prideatwork.ca
SUMMARY:Atlantic Ambassador Meeting
DESCRIPTION:October 3 2025 | 2:00–3:00PM AT\, 2:30–3:30PM NL \nThe Ambassador Program operates as a series of regional groups made up of representatives from our Proud Partner network who share best practices and strategies for creating 2SLGBTQIA+ affirming work environments. \nTo learn more about the program and join\, visit https://prideatwork.ca/programs/ambassador-program/
URL:https://staging.prideatwork.ca/event/atlantic-ambassador-meeting-2/
END:VEVENT
END:VCALENDAR