BEGIN:VCALENDAR
VERSION:2.0
PRODID:-//Pride At Work Canada - ECPv6.15.20//NONSGML v1.0//EN
CALSCALE:GREGORIAN
METHOD:PUBLISH
X-WR-CALNAME:Pride At Work Canada
X-ORIGINAL-URL:https://staging.prideatwork.ca
X-WR-CALDESC:Events for Pride At Work Canada
REFRESH-INTERVAL;VALUE=DURATION:PT1H
X-Robots-Tag:noindex
X-PUBLISHED-TTL:PT1H
BEGIN:VTIMEZONE
TZID:America/Toronto
BEGIN:DAYLIGHT
TZOFFSETFROM:-0500
TZOFFSETTO:-0400
TZNAME:EDT
DTSTART:20240310T070000
END:DAYLIGHT
BEGIN:STANDARD
TZOFFSETFROM:-0400
TZOFFSETTO:-0500
TZNAME:EST
DTSTART:20241103T060000
END:STANDARD
BEGIN:DAYLIGHT
TZOFFSETFROM:-0500
TZOFFSETTO:-0400
TZNAME:EDT
DTSTART:20250309T070000
END:DAYLIGHT
BEGIN:STANDARD
TZOFFSETFROM:-0400
TZOFFSETTO:-0500
TZNAME:EST
DTSTART:20251102T060000
END:STANDARD
BEGIN:DAYLIGHT
TZOFFSETFROM:-0500
TZOFFSETTO:-0400
TZNAME:EDT
DTSTART:20260308T070000
END:DAYLIGHT
BEGIN:STANDARD
TZOFFSETFROM:-0400
TZOFFSETTO:-0500
TZNAME:EST
DTSTART:20261101T060000
END:STANDARD
END:VTIMEZONE
BEGIN:VEVENT
DTSTART;TZID=America/Toronto:20250925T113000
DTEND;TZID=America/Toronto:20250925T123000
DTSTAMP:20260420T154437
CREATED:20250731T184549Z
LAST-MODIFIED:20250815T195044Z
UID:10000898-1758799800-1758803400@staging.prideatwork.ca
SUMMARY:Atlantic Ambassador Meeting
DESCRIPTION:September 25\, 2025 | 11:30am-12:30pm ET (12:30pm – 1:30pm AT; 1:00pm-2:00pm NT) \nThe Ambassador Program operates as a series of regional groups made up of representatives from our Proud Partner network who share best practices and strategies for creating 2SLGBTQIA+ affirming work environments. \nTo learn more about the program and join\, visit https://prideatwork.ca/programs/ambassador-program/
URL:https://staging.prideatwork.ca/event/atlantic-ambassador-meeting-250925/
END:VEVENT
END:VCALENDAR