BEGIN:VCALENDAR
VERSION:2.0
PRODID:-//Pride At Work Canada - ECPv6.15.20//NONSGML v1.0//EN
CALSCALE:GREGORIAN
METHOD:PUBLISH
X-ORIGINAL-URL:https://staging.prideatwork.ca
X-WR-CALDESC:Events for Pride At Work Canada
REFRESH-INTERVAL;VALUE=DURATION:PT1H
X-Robots-Tag:noindex
X-PUBLISHED-TTL:PT1H
BEGIN:VTIMEZONE
TZID:America/Toronto
BEGIN:DAYLIGHT
TZOFFSETFROM:-0500
TZOFFSETTO:-0400
TZNAME:EDT
DTSTART:20240310T070000
END:DAYLIGHT
BEGIN:STANDARD
TZOFFSETFROM:-0400
TZOFFSETTO:-0500
TZNAME:EST
DTSTART:20241103T060000
END:STANDARD
BEGIN:DAYLIGHT
TZOFFSETFROM:-0500
TZOFFSETTO:-0400
TZNAME:EDT
DTSTART:20250309T070000
END:DAYLIGHT
BEGIN:STANDARD
TZOFFSETFROM:-0400
TZOFFSETTO:-0500
TZNAME:EST
DTSTART:20251102T060000
END:STANDARD
BEGIN:DAYLIGHT
TZOFFSETFROM:-0500
TZOFFSETTO:-0400
TZNAME:EDT
DTSTART:20260308T070000
END:DAYLIGHT
BEGIN:STANDARD
TZOFFSETFROM:-0400
TZOFFSETTO:-0500
TZNAME:EST
DTSTART:20261101T060000
END:STANDARD
END:VTIMEZONE
BEGIN:VEVENT
DTSTART;TZID=America/Toronto:20250821T120000
DTEND;TZID=America/Toronto:20250821T130000
DTSTAMP:20260423T214624
CREATED:20250703T163946Z
LAST-MODIFIED:20250729T161412Z
UID:10000875-1755777600-1755781200@staging.prideatwork.ca
SUMMARY:THRIVE and FLOURISH Alumni Summer Gathering
DESCRIPTION:This webinar is open to THRIVE and FLOURISH Alumni.\nThursday\, August 21st\, 2025 at 12:00 PM – 1:00 PM EDT | Via Zoom: Webinar \nJoin us for a special summer gathering of FLOURISH and THRIVE alumni\, featuring an inspiring session with Jennifer Quinn\, CEO of Nieuport Aviation. With a dynamic career spanning leadership roles at Deloitte\, Infrastructure Ontario\, and now at the helm of Nieuport\, Jennifer brings a wealth of insight on navigating complex industries with vision and purpose. This powerful conversation will explore how leaders can intentionally create space for growth\, inclusion\, and transformation—by challenging norms and making room for others to rise. Don’t miss this opportunity to reconnect\, be inspired\, and gain exclusive insights from one of Canada’s top executives. \nKey Learning Objectives:\n\nIlluminate the Power of Intentional Leadership: Learn how leaders can consciously reshape spaces to inspire innovation and foster belonging.\nShare Jennifer’s Personal Journey of Change-Making: Hear firsthand about her experiences navigating and influencing systems to create meaningful opportunities for others.\nProvide Practical Strategies for Inclusive Leadership: Gain tools and insights to recognize when a room needs “shifting” and how to lead those transitions effectively.\nInspire Empowerment Through Vulnerability and Vision: Be motivated to lead boldly—embracing vulnerability\, courage\, and purpose in your own leadership journey.\n\nAudience:\nThis event is exclusively for FLOURISH and THRIVE Alumni \nFeature Speaker:\n[vc_row][vc_column width=”1/4″] \n\nJennifer Quinn (she/her)\nCEO of Nieuport Aviation \n[/vc_column][vc_column width=”3/4″] \nWe’re thrilled to welcome Jennifer Quinn\, CEO of Nieuport Aviation\, as our special guest speaker. Since 2021\, Jennifer has led Nieuport’s operations\, strategy\, stakeholder relations\, and public affairs with vision and expertise. Her impressive career spans public and private sectors\, including leadership roles at Deloitte and Infrastructure Ontario. \nIn 2024\, Jennifer was awarded the Report on Business magazine Best Executive Award from the Globe and Mail for her impactful leadership—guiding Nieuport’s operations through pandemic recovery and collaborating with PortsToronto to bring a U.S. Preclearance facility to the airport (expected late 2025). She was also recognized as one of Canada’s 100 Most Powerful Women of 2024 by the Women’s Executive Network. \nA champion of Diversity\, Equity\, and Inclusion\, Jennifer was honoured in 2017 with Start Proud’s Leaders to be Proud of – Professional Leadership Award for her contributions to the LGBTQ community. \nJennifer holds an Honours Bachelor of Accounting from Brock University\, a Master’s Certificate in Public Management from York University\, and is a Chartered Professional Accountant. \n[/vc_column][/vc_row] \nAccessibility:\n\nSpoken language: English\nClosed captioning provided: English\nFormat: Virtual (Zoom in webinar mode)\nEngagement type: participants invited to engage via chat (no audio or video)\nPlease register below additional accessibility requests. Any questions may be sent to events@prideatwork.ca\n\nRegistration for this event has closed.
URL:https://staging.prideatwork.ca/event/thrive-and-flourish-alumni-summer-gathering/
CATEGORIES:Webinar
END:VEVENT
END:VCALENDAR