BEGIN:VCALENDAR
VERSION:2.0
PRODID:-//Pride At Work Canada - ECPv6.15.20//NONSGML v1.0//EN
CALSCALE:GREGORIAN
METHOD:PUBLISH
X-ORIGINAL-URL:https://staging.prideatwork.ca
X-WR-CALDESC:Events for Pride At Work Canada
REFRESH-INTERVAL;VALUE=DURATION:PT1H
X-Robots-Tag:noindex
X-PUBLISHED-TTL:PT1H
BEGIN:VTIMEZONE
TZID:America/Toronto
BEGIN:DAYLIGHT
TZOFFSETFROM:-0500
TZOFFSETTO:-0400
TZNAME:EDT
DTSTART:20240310T070000
END:DAYLIGHT
BEGIN:STANDARD
TZOFFSETFROM:-0400
TZOFFSETTO:-0500
TZNAME:EST
DTSTART:20241103T060000
END:STANDARD
BEGIN:DAYLIGHT
TZOFFSETFROM:-0500
TZOFFSETTO:-0400
TZNAME:EDT
DTSTART:20250309T070000
END:DAYLIGHT
BEGIN:STANDARD
TZOFFSETFROM:-0400
TZOFFSETTO:-0500
TZNAME:EST
DTSTART:20251102T060000
END:STANDARD
BEGIN:DAYLIGHT
TZOFFSETFROM:-0500
TZOFFSETTO:-0400
TZNAME:EDT
DTSTART:20260308T070000
END:DAYLIGHT
BEGIN:STANDARD
TZOFFSETFROM:-0400
TZOFFSETTO:-0500
TZNAME:EST
DTSTART:20261101T060000
END:STANDARD
END:VTIMEZONE
BEGIN:VEVENT
DTSTART;TZID=America/Toronto:20250506T180000
DTEND;TZID=America/Toronto:20250506T200000
DTSTAMP:20260422T204134
CREATED:20250312T170742Z
LAST-MODIFIED:20250312T193554Z
UID:10000800-1746554400-1746561600@staging.prideatwork.ca
SUMMARY:THRIVE 2025 - Virtual Leadership Program
DESCRIPTION:ABOUT THE PROGRAM\nTHRIVE is a ten-week virtual program that will develop the next generation of Two-Spirit\, queer and trans people managers. Participants will get exclusive access to queer and trans leaders working at the highest levels of Canadian business and engage in important peer-to-peer discussions. Through live Zoom sessions\, collaborative group study\, and self-directed work our fifth THRIVE cohort will collectively unlock their potential as out leaders. \nHOW TO PARTICIPATE\nThe fifth cohort of THRIVE will support a positive learning environment and peer-to-peer learning. The process by which those interested in participating will open on Thursday\, December 5\, 2024. The deadline for applications will be Wednesday\, February 12\, 2025. Those selected for the fifth THRIVE cohort will pay a participation fee\, due upon acceptance: \n\nFee for employees of Pride at Work Canada’s Proud Partners & Community Partners: $1\,500 (plus applicable taxes)\nFee for employees of other organizations: $2\,000 (plus applicable taxes)\n\nApplicants who are self-employed\, employed by a nonprofit or by a registered charity may indicate their interest in being considered for a scholarship to THRIVE. Those accepted as scholarship participants will be charged no fee for participation. \nVisit our THRIVE 2025 page for further details.
URL:https://staging.prideatwork.ca/event/thrive-20250225-2/2025-05-06/
CATEGORIES:Leadership
END:VEVENT
END:VCALENDAR